BEGIN:VCALENDAR
VERSION:2.0
PRODID:-//Equacoes da Liberdade - ECPv6.15.20//NONSGML v1.0//EN
CALSCALE:GREGORIAN
METHOD:PUBLISH
X-WR-CALNAME:Equacoes da Liberdade
X-ORIGINAL-URL:https://equacoesdaliberdade.fe.up.pt
X-WR-CALDESC:Eventos para Equacoes da Liberdade
REFRESH-INTERVAL;VALUE=DURATION:PT1H
X-Robots-Tag:noindex
X-PUBLISHED-TTL:PT1H
BEGIN:VTIMEZONE
TZID:Europe/Lisbon
BEGIN:DAYLIGHT
TZOFFSETFROM:+0000
TZOFFSETTO:+0100
TZNAME:WEST
DTSTART:20230326T010000
END:DAYLIGHT
BEGIN:STANDARD
TZOFFSETFROM:+0100
TZOFFSETTO:+0000
TZNAME:WET
DTSTART:20231029T010000
END:STANDARD
BEGIN:DAYLIGHT
TZOFFSETFROM:+0000
TZOFFSETTO:+0100
TZNAME:WEST
DTSTART:20240331T010000
END:DAYLIGHT
BEGIN:STANDARD
TZOFFSETFROM:+0100
TZOFFSETTO:+0000
TZNAME:WET
DTSTART:20241027T010000
END:STANDARD
BEGIN:DAYLIGHT
TZOFFSETFROM:+0000
TZOFFSETTO:+0100
TZNAME:WEST
DTSTART:20250330T010000
END:DAYLIGHT
BEGIN:STANDARD
TZOFFSETFROM:+0100
TZOFFSETTO:+0000
TZNAME:WET
DTSTART:20251026T010000
END:STANDARD
END:VTIMEZONE
BEGIN:VEVENT
DTSTART;TZID=Europe/Lisbon:20240415T080000
DTEND;TZID=Europe/Lisbon:20241130T170000
DTSTAMP:20260421T151237
CREATED:20240415T144552Z
LAST-MODIFIED:20240415T144552Z
UID:211-1713168000-1732986000@equacoesdaliberdade.fe.up.pt
SUMMARY:Comemorações do 25 de Abril Participe
DESCRIPTION:O Comissariado Cultural da FEUP propõe à Comunidade FEUP a realização de um trabalho artístico alusivo ao tema\, em 2 tipos de suporte diferentes: \n– Pintura – Tintas sobre tela com uma dimensão mínima de 30x40cm e máxima de 50x70cm; \n– Cartaz\, em papel\, com uma dimensão mínima de A3 ou máxima de 50x70cm\, no qual deverá haver uma\, ou mais\, ilustrações feitas com materiais à escolha; Este poderá ser finalizado (com texto) em computador\, após a digitalização da/s ilustração/ões. \nO prazo de realização do trabalho decorrerá até 30 de novembro de 2024. \nOs trabalhos serão reunidos para uma exposição a inaugurar no Dia da FEUP\, previsivelmente a 13 de janeiro de 2025\, e no final serão devolvidos aos autores ou\, caso concordem\, serão leiloados pelo Comissariado Social da FEUP com o objetivo de reunir um fundo a entregar a uma das instituições sociais apoiadas pela FEUP. \nEsta proposta é destinada exclusivamente a todos os elementos da Comunidade FEUP; \nOs materiais serão fornecidos pela comissão organização da iniciativa; \nA FEUP reserva-se o direito de reprodução dos trabalhos; \nOs trabalhos serão acompanhados no horário e local das sessões da Oficina de Pintura da FEUP – Terças-feiras\, das 18h00 às 20h00\, na sala B112. \nPara inscrição\, enviar um email para ccultur@fe.up.pt.
URL:https://equacoesdaliberdade.fe.up.pt/evento/comemoracoes-do-25-de-abril-participe/
LOCATION:Commisariado Cultural
CATEGORIES:Exposições
ATTACH;FMTTYPE=image/jpeg:https://equacoesdaliberdade.fe.up.pt/wp-content/uploads/2024/04/2024_25Abril_Cartaz.jpg
END:VEVENT
END:VCALENDAR